BEGIN:VCALENDAR
VERSION:2.0
PRODID:icalendar-ruby
CALSCALE:GREGORIAN
METHOD:PUBLISH
BEGIN:VEVENT
DTSTAMP:20260424T084829Z
UID:6-1429080@purewordbiblechurch.com
DTSTART:20260801T130000Z
DTEND:20260805T140000Z
CLASS:PUBLIC
CREATED:20260423T122245
DESCRIPTION:Join us for coffee and fellowship starting at 9:00am\, the stud
 ies starting at 9:30am!
LAST-MODIFIED:20260423T122245
LOCATION:
SUMMARY:Monthly Bible Study
URL;VALUE=URI:https://www.purewordbiblechurch.com/events/monthly-bible-stud
 y/2026-08-01
ATTACH;FILENAME=Bible-Study.png;FMTTYPE=image/png:https://dq5pwpg1q8ru0.clo
 udfront.net/2025/08/17/21/49/26/3115d1d7-c046-46fe-aaab-0fef92e4a46d/Bible
 -Study.png
END:VEVENT
END:VCALENDAR
