BEGIN:VCALENDAR
VERSION:2.0
PRODID:icalendar-ruby
CALSCALE:GREGORIAN
METHOD:PUBLISH
BEGIN:VEVENT
DTSTAMP:20260420T183442Z
UID:2-1414058@purewordbiblechurch.com
DTSTART:20260726T143000Z
DTEND:20260726T160000Z
CLASS:PUBLIC
CREATED:20260420T120336
DESCRIPTION:Join us for our Sunday Worship Service starting at 10:30 AM!
LAST-MODIFIED:20260420T120336
LOCATION:
SUMMARY:Sunday Worship Service
URL;VALUE=URI:https://www.purewordbiblechurch.com/events/sunday-worship-ser
 vice/2026-07-26
ATTACH;FILENAME=Worship-Services%281%29.png;FMTTYPE=image/png:https://dq5pw
 pg1q8ru0.cloudfront.net/2022/11/21/15/36/44/e5be0daa-f65b-4fd4-b7b9-c7fce1
 51917a/Worship-Services%25281%2529.png
END:VEVENT
END:VCALENDAR
